BEGIN:VCALENDAR
VERSION:2.0
PRODID:-//pretix//pretix.eu//
BEGIN:VTIMEZONE
TZID:Europe/Berlin
BEGIN:STANDARD
DTSTART:20001029T040000
RRULE:FREQ=YEARLY;BYDAY=-1SU;BYMONTH=10
TZNAME:CET
TZOFFSETFROM:+0200
TZOFFSETTO:+0100
END:STANDARD
BEGIN:DAYLIGHT
DTSTART:20000326T030000
RRULE:FREQ=YEARLY;BYDAY=-1SU;BYMONTH=3
TZNAME:CEST
TZOFFSETFROM:+0100
TZOFFSETTO:+0200
END:DAYLIGHT
END:VTIMEZONE
BEGIN:VEVENT
UID:pretix-genodigital-cc-energiewende-0@events.genossenschaften.digital
DTSTART;TZID=Europe/Berlin:20251115T090000
DTEND;TZID=Europe/Berlin:20251115T170000
DESCRIPTION:Tickets: https://events.genossenschaften.digital/cc-energiewend
 e/\nEinlass: 15.11.2025 08:00\nVeranstalter: #GenoDigital (Initiative des 
 SEND e.V.)
DTSTAMP:20260425T154211Z
LOCATION:Jugend- und Kulturzentrum mon ami\, Goetheplatz 11\, 99423 Weimar
SUMMARY:CoopCamp Energiewende
END:VEVENT
END:VCALENDAR
