BEGIN:VCALENDAR
VERSION:2.0
PRODID:-//pretix//pretix.eu//
BEGIN:VTIMEZONE
TZID:Europe/Berlin
BEGIN:STANDARD
DTSTART:20001029T040000
RRULE:FREQ=YEARLY;BYDAY=-1SU;BYMONTH=10
TZNAME:CET
TZOFFSETFROM:+0200
TZOFFSETTO:+0100
END:STANDARD
BEGIN:DAYLIGHT
DTSTART:20000326T030000
RRULE:FREQ=YEARLY;BYDAY=-1SU;BYMONTH=3
TZNAME:CEST
TZOFFSETFROM:+0100
TZOFFSETTO:+0200
END:DAYLIGHT
END:VTIMEZONE
BEGIN:VEVENT
UID:pretix-genodigital-crowdinvesting-0@events.genossenschaften.digital
DTSTART;TZID=Europe/Berlin:20260326T130000
DTEND;TZID=Europe/Berlin:20260326T140000
DESCRIPTION:Tickets: https://events.genossenschaften.digital/crowdinvesting
 /\nVeranstalter: #GenoDigital (Initiative des SEND e.V.)
DTSTAMP:20260424T100624Z
LOCATION:Online (Zoom)
SUMMARY:CoopCall: Crowdinvesting für Genossenschaften
END:VEVENT
BEGIN:VEVENT
UID:pretix-genodigital-CoopCamp26-04-0@events.genossenschaften.digital
DTSTART;TZID=Europe/Berlin:20260417T093000
DTEND;TZID=Europe/Berlin:20260417T170000
DESCRIPTION:Tickets: https://events.genossenschaften.digital/CoopCamp26-04/
 \nEinlass: 17.04.2026 09:00\nVeranstalter: #GenoDigital (Initiative des SE
 ND e.V.)
DTSTAMP:20260424T100624Z
LOCATION:Impact Hub Berlin\, Rollbergstraße 28A\, 12053 Berlin
SUMMARY:CoopCamp Genossenschaftliche Allianzen
END:VEVENT
BEGIN:VEVENT
UID:pretix-genodigital-CoopCamp26-06-0@events.genossenschaften.digital
DTSTART;TZID=Europe/Berlin:20260612T093000
DTEND;TZID=Europe/Berlin:20260612T170000
DESCRIPTION:Tickets: https://events.genossenschaften.digital/CoopCamp26-06/
 \nEinlass: 12.06.2026 09:00\nVeranstalter: #GenoDigital (Initiative des SE
 ND e.V.)
DTSTAMP:20260424T100624Z
LOCATION:taz Verlagsgenossenschaft eG\, Friedrichstraße 21\, 10969 Berlin
SUMMARY:CoopCamp Lebendige Genossenschaften
END:VEVENT
END:VCALENDAR
