BEGIN:VCALENDAR
VERSION:2.0
PRODID:-//pretix//pretix.eu//
BEGIN:VTIMEZONE
TZID:Europe/Berlin
BEGIN:STANDARD
DTSTART:20001029T040000
RRULE:FREQ=YEARLY;BYDAY=-1SU;BYMONTH=10
TZNAME:CET
TZOFFSETFROM:+0200
TZOFFSETTO:+0100
END:STANDARD
BEGIN:DAYLIGHT
DTSTART:20000326T030000
RRULE:FREQ=YEARLY;BYDAY=-1SU;BYMONTH=3
TZNAME:CEST
TZOFFSETFROM:+0100
TZOFFSETTO:+0200
END:DAYLIGHT
END:VTIMEZONE
BEGIN:VEVENT
UID:pretix-genodigital-meetup-2025-05-0@events.genossenschaften.digital
DTSTART;TZID=Europe/Berlin:20250523T170000
DTEND;TZID=Europe/Berlin:20250523T190000
DESCRIPTION:Tickets: https://events.genossenschaften.digital/meetup-2025-05
 /\nVeranstalter: #GenoDigital (Initiative des SEND e.V.)
DTSTAMP:20260425T153956Z
LOCATION:Hamburger Genossenschaftsmuseum\, Besenbinderhof 60\, 20097 Hambur
 g\, Germany
SUMMARY:Digitales trifft Historisches - #GenoDigital Coop Meetup im Hamburg
 er Genossenschaftsmuseum
END:VEVENT
END:VCALENDAR
